BEGIN:VCALENDAR
VERSION:2.0
PRODID:Broussard, LA Calendar Creator
METHOD:PUBLISH
BEGIN:VEVENT
DTSTAMP:20260415T151310
DTSTART:20260420T150000
DTEND:20260420T235900
SUMMARY:Broussard Main Street Corporation Meeting
DESCRIPTION:
X-ALT-DESC;FMTTYPE=text/html:
LOCATION:Broussard Council Chambers (416)\, 416 EAST MAIN STREET\, COUNCIL CHAMBERS Broussard\, Louisiana 70518
CLASS:PUBLIC
END:VEVENT
END:VCALENDAR
